BEGIN:VCALENDAR
VERSION:2.0
PRODID:-//d23/author//NONSGML v1.0//EN
CALSCALE:GREGORIAN
BEGIN:VEVENT
DTSTART:20260711
DTEND:20260711
UID:162957@d23.com
LOCATION;LANGUAGE=en-US:Beverly Hills\, CA
DESCRIPTION;LANGUAGE=en-US:The Princess Diaries is celebrating its 25th anniversary?! SHUT. UP. Join D23 and Street Food Cinema in celebrating this iconic film fit for Genovian royalty on Saturday\, July 11\, at La Cienega Park in Beverly Hills. The event will feature a variety of food trucks to dine from (picnics also welcome)\; a special themed event gift exclusively for guests who purchase their tickets here at D23.com\; and more! See below for tickets and further details...\n\nLocation:\nBeverly Hills\, CA
SUMMARY;LANGUAGE=en-US:D23 x Street Food Cinema Present: The Princess Diaries 25th Anniversary Screening
URL:https://d23.com/d23-event/the-princess-diaries-25th-anniversary-screening/
DTSTAMP:20260422T165407Z
ORGANIZER;CN=D23 - The Official Disney Fan Club:mailto:guestRelations@d23.com
END:VEVENT
END:VCALENDAR
