BEGIN:VCALENDAR
VERSION:2.0
PRODID:-//d23/author//NONSGML v1.0//EN
CALSCALE:GREGORIAN
BEGIN:VEVENT
DTSTART:20260801
DTEND:20260801
UID:162951@d23.com
LOCATION;LANGUAGE=en-US:Los Angeles\, CA
DESCRIPTION;LANGUAGE=en-US:Ka-chow! D23 and Street Food Cinema will be racing over to The Autry Museum for an outdoor summer screening celebrating the 20th anniversary of Disney and Pixar’s Cars. At the event\, guests can enjoy photo ops\, a variety of delicious food trucks to dine from\, a special themed event gift\, and more. See below for further details and ticket information\, including special perks you can get by purchasing your tickets here at D23.com!\n\nLocation:\nLos Angeles\, CA
SUMMARY;LANGUAGE=en-US:D23 x Street Food Cinema Present: Disney and Pixar’s Cars 20th Anniversary Screening
URL:https://d23.com/d23-event/disney-pixar-cars-20th-anniversary-screening/
DTSTAMP:20260422T165426Z
ORGANIZER;CN=D23 - The Official Disney Fan Club:mailto:guestRelations@d23.com
END:VEVENT
END:VCALENDAR